BEGIN:VCALENDAR
VERSION:2.0
PRODID:-//Stars Of Finance - ECPv6.15.19//NONSGML v1.0//EN
CALSCALE:GREGORIAN
METHOD:PUBLISH
X-WR-CALNAME:Stars Of Finance
X-ORIGINAL-URL:https://starsoffinance.com
X-WR-CALDESC:Evenementen voor Stars Of Finance
REFRESH-INTERVAL;VALUE=DURATION:PT1H
X-Robots-Tag:noindex
X-PUBLISHED-TTL:PT1H
BEGIN:VTIMEZONE
TZID:UTC
BEGIN:STANDARD
TZOFFSETFROM:+0000
TZOFFSETTO:+0000
TZNAME:UTC
DTSTART:20250101T000000
END:STANDARD
END:VTIMEZONE
BEGIN:VEVENT
DTSTART;TZID=UTC:20260326T110000
DTEND;TZID=UTC:20260326T120500
DTSTAMP:20260420T042157
CREATED:20260322T072652Z
LAST-MODIFIED:20260322T153929Z
UID:889-1774522800-1774526700@starsoffinance.com
SUMMARY:AI Cashflow Intelligence
DESCRIPTION:Cashflow onvoorspelbaar? Excel rekent wel\, maar komt niet uit? \nDe kracht van AI is patronen herkennen en op basis hiervan voorspellen. Nauwkeurigheid die wij als mens én ook Excel niet kennen. \nOntdek hoe AI werkt.  \n\nHoe ziet AI er voor jou uit\nHoe gebruik je AI juist als financial\nPraktische live-demo hoe AI jou helpt een betere cashflow forecast te maken.\n\nWebinar is gericht op: \n\nCFOs\nFinance managers\nBusiness controllers\nPraktijk use-cases binnen MKB\n\nNa deze Webinar weet je: \n\nHoe je direct AI inzet middels Copilot\nHoe AI je helpt om betere analyses te maken\nHoe je AI inzet voor cashflow forecasting\nWat je moet doen om werkzaamheden te kunnen automatiseren
URL:https://starsoffinance.com/event/ai-cashflow-forecasting/
LOCATION:Online event\, Eindhoven\, 4906LJ\, Netherlands
ATTACH;FMTTYPE=image/png:https://starsoffinance.com/wp-content/uploads/2026/03/Cashflow-forecasting-AI.png
END:VEVENT
END:VCALENDAR